BEGIN:VCALENDAR
VERSION:2.0
PRODID:-//eventon.com NONSGML v1.0//EN
BEGIN:VEVENT
UID:69eac67f04bcf
DTSTAMP:20260423T212519
DTSTART:20241019T170000Z
DTEND:20241019T200000Z
LOCATION:
SUMMARY:Saturday Music
DESCRIPTION: Saturday afternoon music- 1-4 PM. Musician - Don Lowe. No admission charge. Reservations not required.
END:VEVENT
END:VCALENDAR