BEGIN:VCALENDAR
VERSION:2.0
PRODID:-//eventon.com NONSGML v1.0//EN
BEGIN:VEVENT
UID:69e6bd3d36783
DTSTAMP:20260420T195645
DTSTART:20240818T180000Z
DTEND:20240818T210000Z
LOCATION:
SUMMARY:** Rescheduled to 8/25 - Pizza and Wine for 2
DESCRIPTION: Pizza and Wine for Two. Reservations Not Required for Pizza. Indoor and outdoor seating. Music by Ron -  2 - 5 PM.
END:VEVENT
END:VCALENDAR