BEGIN:VCALENDAR
VERSION:2.0
PRODID:-//eventon.com NONSGML v1.0//EN
BEGIN:VEVENT
UID:69e64216bf258
DTSTAMP:20260420T111118
DTSTART:20240608T170000Z
DTEND:20240608T203000Z
LOCATION:
SUMMARY:Rhubarb Festival
DESCRIPTION: 17th Annual Rhubarb Festival. $28 PP reservations required for food. Two sessions 1:00-2:30 and 3-4:30 PM. Music  - 1-4:30 Emma Henning. Four dishes made with Rhubarb. Indoor and outdoor seating. Child and dog friendly event.
END:VEVENT
END:VCALENDAR