BEGIN:VCALENDAR
VERSION:2.0
PRODID:-//eventon.com NONSGML v1.0//EN
BEGIN:VEVENT
UID:69e73033c57c2
DTSTAMP:20260421T040715
DTSTART:20240519T170000Z
DTEND:20240519T203000Z
LOCATION:
SUMMARY:Asparagus Festival
DESCRIPTION: 17th Annual Asparagus Festival. $28 PP reservations required. Two sessions 1:00-2:30 and 3-4:30 PM. Music Marty Meyer 1:30-4:30. Four dishes made with asparagus.  Indoor and outdoor seating. Child and dog friendly event. Reservations required only for food.
END:VEVENT
END:VCALENDAR