BEGIN:VCALENDAR
VERSION:2.0
PRODID:-//eventon.com NONSGML v1.0//EN
BEGIN:VEVENT
UID:69e743b9a2335
DTSTAMP:20260421T053033
DTSTART:20240512T143000Z
DTEND:20240512T200000Z
LOCATION:
SUMMARY:Mother's Day Brunch
DESCRIPTION: ** New session added 2:30 - 4 PM ** Mother's Day Farm to Table Brunch. 10:30:-12\,  and 12:30- 2PM. $37 PP. Indoor and outdoor seating. Rsv Required. Live Music by Dan Sawyer.
END:VEVENT
END:VCALENDAR