BEGIN:VCALENDAR
VERSION:2.0
PRODID:-//eventon.com NONSGML v1.0//EN
BEGIN:VEVENT
UID:69e6591163431
DTSTAMP:20260420T124921
DTSTART:20230730T180000Z
DTEND:20230730T210000Z
LOCATION:
SUMMARY:Sunday Music
DESCRIPTION: Sunday afternoon music- 2-5 PM. Musician -Bruce No admission charge. Reservations not required.
END:VEVENT
END:VCALENDAR