BEGIN:VCALENDAR
VERSION:2.0
PRODID:-//eventon.com NONSGML v1.0//EN
BEGIN:VEVENT
UID:69e887e8b2b8d
DTSTAMP:20260422T043344
DTSTART:20230506T180000Z
DTEND:20230506T210000Z
LOCATION:
SUMMARY:Kentucky Derby Celebration
DESCRIPTION: * New Event * Kentucky Derby Music\,  Food\,  Wine\,  and Best Hat Contest - Saturday May 6th 2 -5 PM. Try our special Kentucky Derby drink\,  "Upland 3 Mint Julip" along with a menu of pimento cheese spread and crackers\,  hot brown sliders and chips\,  bourbon bbq meatballs\,  and Kentucky[..]
END:VEVENT
END:VCALENDAR