BEGIN:VCALENDAR
VERSION:2.0
PRODID:-//eventon.com NONSGML v1.0//EN
BEGIN:VEVENT
UID:69e746c931672
DTSTAMP:20260421T054337
DTSTART:20230617T190000Z
DTEND:20230617T220000Z
LOCATION:
SUMMARY:* Pizza and Wine for 2 * canceled due to weather *
DESCRIPTION: Pizza and Wine for Two. Reservations Required. $57 (2 pizzas\,  bottle of wine). Indoor and outdoor seating. Music Blue Yodels -  3 - 6 PM.  Reservations required for pizza.
END:VEVENT
END:VCALENDAR