BEGIN:VCALENDAR
VERSION:2.0
PRODID:-//eventon.com NONSGML v1.0//EN
BEGIN:VEVENT
UID:69e745ccbf614
DTSTAMP:20260421T053924
DTSTART:20230527T180000Z
DTEND:20230527T210000Z
LOCATION:
SUMMARY:Saturday Music
DESCRIPTION: Saturday afternoon music- Musician Jamie Cairney- 2 - 5 PM. No admission charge. Reservations not required.
END:VEVENT
END:VCALENDAR