BEGIN:VCALENDAR
VERSION:2.0
PRODID:-//eventon.com NONSGML v1.0//EN
BEGIN:VEVENT
UID:69e92d601e419
DTSTAMP:20260422T161944
DTSTART:20220625T180000Z
DTEND:20220625T210000Z
LOCATION:
SUMMARY:Pizza and Wine for 2
DESCRIPTION: Pizza and Wine for Two. Reservations Required. $55 (2 pizzas\,  bottle of wine\,  2 White Silo wine glasses). Indoor and outdoor seating. Music -  2 - 5 PM. Music - Jamie Cairney. Reservations required for pizza.
END:VEVENT
END:VCALENDAR