BEGIN:VCALENDAR
VERSION:2.0
PRODID:-//eventon.com NONSGML v1.0//EN
BEGIN:VEVENT
UID:69ebb7f13b877
DTSTAMP:20260424T143529
DTSTART:20220423T150000Z
DTEND:20220529T220000Z
LOCATION:
SUMMARY:Art Show
DESCRIPTION: Angelo Perrone-Abstract Expressionism and Neo Impressionistic Landscapes John Basil Perrone-Abstract Expressionism Loretta Scena-Works In Cloth Based and Stitchery Kimberly Anne Palmer-Contemporary Abstract Photos
END:VEVENT
END:VCALENDAR