BEGIN:VCALENDAR
VERSION:2.0
PRODID:-//eventon.com NONSGML v1.0//EN
BEGIN:VEVENT
UID:69e65d94b1ad2
DTSTAMP:20260420T130836
DTSTART:20221210T220000Z
DTEND:20221211T003000Z
LOCATION:
SUMMARY:Dessert and Wine Pairing
DESCRIPTION: Gina will prepare desserts and we will pair with our wine. Reservations required. Music with Guy Tino.
END:VEVENT
END:VCALENDAR