BEGIN:VCALENDAR
VERSION:2.0
PRODID:-//eventon.com NONSGML v1.0//EN
BEGIN:VEVENT
UID:69eafa1a64c57
DTSTAMP:20260424T010530
DTSTART:20220807T180000Z
DTEND:20220807T210000Z
LOCATION:
SUMMARY:Pizza and Wine for 2
DESCRIPTION: Pizza and Wine for Two. Reservations Required. $55 (2 pizzas\,  bottle of wine\,  2 White Silo wine glasses). Indoor and outdoor seating. Music - Raquel de Souza. - 2 - 5 PM. Reservations required for pizza.
END:VEVENT
END:VCALENDAR