BEGIN:VCALENDAR
VERSION:2.0
PRODID:-//eventon.com NONSGML v1.0//EN
BEGIN:VEVENT
UID:69e6c0ff6d74d
DTSTAMP:20260420T201247
DTSTART:20220717T180000Z
DTEND:20220717T210000Z
LOCATION:
SUMMARY:Pizza and Wine for 2
DESCRIPTION: Pizza and Wine for Two. Reservations Required. $55 (2 pizzas\,  bottle of wine\,  2 White Silo wine glasses). Indoor and outdoor seating. Music - Marty Meyer. - 2 - 5 PM. Reservations required for pizza.
END:VEVENT
END:VCALENDAR