BEGIN:VCALENDAR
VERSION:2.0
PRODID:-//eventon.com NONSGML v1.0//EN
BEGIN:VEVENT
UID:69e65cdb369a7
DTSTAMP:20260420T130531
DTSTART:20220716T183000Z
DTEND:20220716T203000Z
LOCATION:
SUMMARY:Saturday Music
DESCRIPTION: Saturday afternoon music with The Hummingbirds 1:30 - 4:30 PM. No admission charge. Reservations not required.
END:VEVENT
END:VCALENDAR