BEGIN:VCALENDAR
VERSION:2.0
PRODID:-//eventon.com NONSGML v1.0//EN
BEGIN:VEVENT
UID:69e833a489384
DTSTAMP:20260421T223412
DTSTART:20211106T153000Z
DTEND:20211106T203000Z
LOCATION:
SUMMARY:Quince Festival
DESCRIPTION: 8th Annual Quince Festival.
END:VEVENT
END:VCALENDAR