BEGIN:VCALENDAR
VERSION:2.0
PRODID:-//eventon.com NONSGML v1.0//EN
BEGIN:VEVENT
UID:69ec9600210c1
DTSTAMP:20260425T062256
DTSTART:20210910T210000Z
DTEND:20210911T010000Z
LOCATION:
SUMMARY:Closed for Private Event
DESCRIPTION: Closed for Private Event
END:VEVENT
END:VCALENDAR