BEGIN:VCALENDAR
VERSION:2.0
PRODID:-//eventon.com NONSGML v1.0//EN
BEGIN:VEVENT
UID:69e89fefc5d06
DTSTAMP:20260422T061615
DTSTART:20210620T143000Z
DTEND:20210620T180000Z
LOCATION:
SUMMARY:Father's Day Brunch
DESCRIPTION: Father's Day Farm to Table Brunch. 10:30-12 and 12:30 - 2 PM. $35 PP. Indoor and outdoor seating. Live Music by Brennan Orie 11-2 PM.
END:VEVENT
END:VCALENDAR