BEGIN:VCALENDAR
VERSION:2.0
PRODID:-//eventon.com NONSGML v1.0//EN
BEGIN:VEVENT
UID:69e5c79d4d016
DTSTAMP:20260420T022845
DTSTART:20200705T200000Z
DTEND:20200705T220000Z
LOCATION:
SUMMARY:** Sold Out** Pizza&Wine For Two
DESCRIPTION: Pizza and Wine for Two. Reservations Required. $50 (2 pizzas\,  bottle of wine\,  and two white silo wine glasses) Live music 3-6 PM with Missy and Bill
END:VEVENT
END:VCALENDAR