BEGIN:VCALENDAR
VERSION:2.0
PRODID:-//eventon.com NONSGML v1.0//EN
BEGIN:VEVENT
UID:69e9d4eac03bb
DTSTAMP:20260423T041434
DTSTART:20201012T030000Z
DTEND:20201011T220000Z
LOCATION:
SUMMARY:Beet Festival
DESCRIPTION: 5th Annual Beet Festival. $25 PP reservations required. Three sessions 11-1\,  1:30-3:30\,  4-6 PM. Music with Don Lowe 2-5:30.
END:VEVENT
END:VCALENDAR