BEGIN:VCALENDAR
VERSION:2.0
PRODID:-//eventon.com NONSGML v1.0//EN
BEGIN:VEVENT
UID:69e62e4fc5534
DTSTAMP:20260420T094655
DTSTART:20200815T160000Z
DTEND:20200815T220000Z
LOCATION:
SUMMARY:Blackberry Festival
DESCRIPTION: 12th Annual Blackberry Festival. Reservations Required. Music 2 - 5:30 PM Marty Meyer.
END:VEVENT
END:VCALENDAR