BEGIN:VCALENDAR
VERSION:2.0
PRODID:-//eventon.com NONSGML v1.0//EN
BEGIN:VEVENT
UID:69e7f49455ccc
DTSTAMP:20260421T180508
DTSTART:20200724T220000Z
DTEND:20200725T000000Z
LOCATION:
SUMMARY:Friday Night Tapas
DESCRIPTION: Tapas by Gina\,  Music - Al Rivoli
END:VEVENT
END:VCALENDAR