BEGIN:VCALENDAR
VERSION:2.0
PRODID:-//eventon.com NONSGML v1.0//EN
BEGIN:VEVENT
UID:69e7509155f63
DTSTAMP:20260421T062521
DTSTART:20190817T160000Z
DTEND:20190817T210000Z
LOCATION:
SUMMARY:Blackberry Festival
DESCRIPTION: 10th Annual Blackberry Festival. Free admission.
END:VEVENT
END:VCALENDAR