BEGIN:VCALENDAR
VERSION:2.0
PRODID:-//eventon.com NONSGML v1.0//EN
BEGIN:VEVENT
UID:69e6b2e34efd0
DTSTAMP:20260420T191235
DTSTART:20190526T160000Z
DTEND:20190526T210000Z
LOCATION:
SUMMARY:Asparagus Festival
DESCRIPTION: 12th Annual Asparagus Festival - Food\,  Wine\,  Tours\,  Live Music.
END:VEVENT
END:VCALENDAR