BEGIN:VCALENDAR
VERSION:2.0
PRODID:-//eventon.com NONSGML v1.0//EN
BEGIN:VEVENT
UID:69e634ae1bec2
DTSTAMP:20260420T101406
DTSTART:20170402T150000Z
DTEND:20170402T210000Z
LOCATION:
SUMMARY:Opening Weekend Celebration
DESCRIPTION: Opening Weekend Celebration. Taste our new wines from the "tanks". Free samples of some of our favorite recipes and local products.
END:VEVENT
END:VCALENDAR