BEGIN:VCALENDAR
VERSION:2.0
PRODID:-//eventon.com NONSGML v1.0//EN
BEGIN:VEVENT
UID:69e75075b0721
DTSTAMP:20260421T062453
DTSTART:20170422T220000Z
DTEND:20170423T010000Z
LOCATION:
SUMMARY:Farm to Table Dinner
DESCRIPTION: Farm to Table Dinner. Limited to 30 guests. To purchase tickets and more information Click here
END:VEVENT
END:VCALENDAR