BEGIN:VCALENDAR
VERSION:2.0
PRODID:-//eventon.com NONSGML v1.0//EN
BEGIN:VEVENT
UID:69e4cc7a2a8b2
DTSTAMP:20260419T083714
DTSTART:20170813T000000Z
DTEND:20170813T020000Z
LOCATION:
SUMMARY:Movie Night
DESCRIPTION: We will project the movie "Bottle Shock"on our silo.
END:VEVENT
END:VCALENDAR