BEGIN:VCALENDAR
VERSION:2.0
PRODID:-//eventon.com NONSGML v1.0//EN
BEGIN:VEVENT
UID:69e6f1967df3b
DTSTAMP:20260420T234006
DTSTART:20171103T040000Z
DTEND:20171127T035900Z
LOCATION:
SUMMARY:Art Show
DESCRIPTION: Art Show
END:VEVENT
END:VCALENDAR